BEGIN:VCALENDAR
VERSION:2.0
PRODID:-//SIC NYON - ECPv6.9.0//NONSGML v1.0//EN
CALSCALE:GREGORIAN
METHOD:PUBLISH
X-ORIGINAL-URL:https://sauvegarde.sic-nyon.ch
X-WR-CALDESC:Évènements pour SIC NYON
REFRESH-INTERVAL;VALUE=DURATION:PT1H
X-Robots-Tag:noindex
X-PUBLISHED-TTL:PT1H
BEGIN:VTIMEZONE
TZID:Europe/Zurich
BEGIN:DAYLIGHT
TZOFFSETFROM:+0100
TZOFFSETTO:+0200
TZNAME:CEST
DTSTART:20230326T010000
END:DAYLIGHT
BEGIN:STANDARD
TZOFFSETFROM:+0200
TZOFFSETTO:+0100
TZNAME:CET
DTSTART:20231029T010000
END:STANDARD
END:VTIMEZONE
BEGIN:VEVENT
DTSTART;TZID=Europe/Zurich:20230610T080000
DTEND;TZID=Europe/Zurich:20230610T180000
DTSTAMP:20260419T175303
CREATED:20230601T064833Z
LAST-MODIFIED:20230601T103230Z
UID:3225-1686384000-1686420000@sauvegarde.sic-nyon.ch
SUMMARY:Marché de printemps
DESCRIPTION:La SIC a le plaisir de vous présenter le marché de Printemps 2023. C’est un jour de grande fête dans lequel les étalagistes du marché hebdomadaire du samedi matin prolongent leur permanence au centre-ville de Nyon. Les commerces et les boutiques du centre-ville en profitent pour sortir de leurs arcades afin de proposer leurs produits. D’autres commerces et alentours décident de tenir un stand en proposant des produits divers et variés. \nDes associations locales (culturelles et sportives) tiennent des stands afin de se faire connaitre et proposer une activité sympathique à leurs membres. Des animations sportives\, culturelles et musicales sont prévues afin de créer une belle ambiance pour les badauds. L’objectif étant de fêter l’arrivée des beaux jours et de faire une belle fête dans un climat de convivialité tout en promouvant l’artisanat et le commerce local et de proximité. \n 
URL:https://sauvegarde.sic-nyon.ch/event/marche-de-printemps/
ATTACH;FMTTYPE=:
END:VEVENT
BEGIN:VEVENT
DTSTART;TZID=Europe/Zurich:20230629T190000
DTEND;TZID=Europe/Zurich:20230629T230000
DTSTAMP:20260419T175303
CREATED:20230601T064837Z
LAST-MODIFIED:20230824T141951Z
UID:3226-1688065200-1688079600@sauvegarde.sic-nyon.ch
SUMMARY:Jeudi de la SIC à la Cave de la Côte
DESCRIPTION:Vous souhaitez pouvoir rencontrer et échanger avec d’autres commerçants de la région nyonnaise? \nVous aimeriez en profiter pour vous présenter\, vous former ou même partager votre expérience avec d’autres membres afin de créer un microcosme favorisant les relations professionnelles inter-membres de la SIC Nyon? \nVenez nous rencontrer au jeudi de la SIC\, l’incontournable événement B2B de la région ! \nNotre prochain événement aura lieu le jeudi 29 juin 2023 à 19h00 à la Cave de la Côte ! \nInscription gratuite pour les membres de la SIC par email à : b2b@sauvegarde.sic-nyon.ch en indiquant le nombre de personnes présentes. \n• 2 personnes maximum pour les entreprises jusqu’à 10 collaborateurs.\n• 3 personnes maximum pour les entreprises de plus de 10 collaborateurs.\n• Inscription non-membre: CHF 80.00 par personne (montant déduit en cas d’inscription en tant que membre dans les 2 mois suivant l’événement.) \n 
URL:https://sauvegarde.sic-nyon.ch/event/jeudi-de-la-sic-chez-caves-de-la-cote/
ATTACH;FMTTYPE=:
END:VEVENT
END:VCALENDAR